BEGIN:VCALENDAR
VERSION:2.0
PRODID:-//The Launch Pad - ECPv6.15.20//NONSGML v1.0//EN
CALSCALE:GREGORIAN
METHOD:PUBLISH
X-ORIGINAL-URL:https://thelaunchpad.org
X-WR-CALDESC:Events for The Launch Pad
REFRESH-INTERVAL;VALUE=DURATION:PT1H
X-Robots-Tag:noindex
X-PUBLISHED-TTL:PT1H
BEGIN:VTIMEZONE
TZID:America/New_York
BEGIN:DAYLIGHT
TZOFFSETFROM:-0500
TZOFFSETTO:-0400
TZNAME:EDT
DTSTART:20240310T070000
END:DAYLIGHT
BEGIN:STANDARD
TZOFFSETFROM:-0400
TZOFFSETTO:-0500
TZNAME:EST
DTSTART:20241103T060000
END:STANDARD
BEGIN:DAYLIGHT
TZOFFSETFROM:-0500
TZOFFSETTO:-0400
TZNAME:EDT
DTSTART:20250309T070000
END:DAYLIGHT
BEGIN:STANDARD
TZOFFSETFROM:-0400
TZOFFSETTO:-0500
TZNAME:EST
DTSTART:20251102T060000
END:STANDARD
BEGIN:DAYLIGHT
TZOFFSETFROM:-0500
TZOFFSETTO:-0400
TZNAME:EDT
DTSTART:20260308T070000
END:DAYLIGHT
BEGIN:STANDARD
TZOFFSETFROM:-0400
TZOFFSETTO:-0500
TZNAME:EST
DTSTART:20261101T060000
END:STANDARD
END:VTIMEZONE
BEGIN:VEVENT
DTSTART;TZID=America/New_York:20250415T080000
DTEND;TZID=America/New_York:20250517T170000
DTSTAMP:20260421T153316
CREATED:20250415T201006Z
LAST-MODIFIED:20250415T201006Z
UID:12010-1744704000-1747501200@thelaunchpad.org
SUMMARY:Work With The Launch Pad Post Grad!
DESCRIPTION:Just because you are graduating doesn’t mean The Launch Pad isn’t still here for you. \nAs an alum\, you can continue to access all of our resources to support your entrepreneurial journey. Whether you’re starting something new or growing your existing venture\, we’re here to help every step of the way. \nHere at The Launch Pad\, we support students and alumni at any stage— whether you’re starting a new idea or growing an existing venture. Through coaching\, workshops\, and connections\, we’re here to help you move forward.
URL:https://thelaunchpad.org/event/work-with-the-launch-pad-post-grad/
CATEGORIES:Community Events,Meeting Or Networking Event
ATTACH;FMTTYPE=image/jpeg:https://thelaunchpad.org/wp-content/uploads/2025/04/Screenshot-2025-04-15-at-4.04.51 PM.jpg
END:VEVENT
BEGIN:VEVENT
DTSTART;TZID=America/New_York:20250429T180000
DTEND;TZID=America/New_York:20250429T200000
DTSTAMP:20260421T153316
CREATED:20250318T000606Z
LAST-MODIFIED:20250403T201218Z
UID:11960-1745949600-1745956800@thelaunchpad.org
SUMMARY:Honoring Women Making Moves
DESCRIPTION:RSVP HERE
URL:https://thelaunchpad.org/event/hwmm/
LOCATION:6200 SAN AMARO DRIVE | CORAL GABLES\, FL 33146
CATEGORIES:Party Or Social Gathering,TLP Events,University Wide Event
ATTACH;FMTTYPE=image/png:https://thelaunchpad.org/wp-content/uploads/2025/03/Honoring-WMM-Flyer-1-e1743711122922.png
END:VEVENT
END:VCALENDAR