BEGIN:VCALENDAR
VERSION:2.0
PRODID:-//The Launch Pad - ECPv6.15.20//NONSGML v1.0//EN
CALSCALE:GREGORIAN
METHOD:PUBLISH
X-ORIGINAL-URL:https://thelaunchpad.org
X-WR-CALDESC:Events for The Launch Pad
REFRESH-INTERVAL;VALUE=DURATION:PT1H
X-Robots-Tag:noindex
X-PUBLISHED-TTL:PT1H
BEGIN:VTIMEZONE
TZID:America/New_York
BEGIN:DAYLIGHT
TZOFFSETFROM:-0500
TZOFFSETTO:-0400
TZNAME:EDT
DTSTART:20150308T070000
END:DAYLIGHT
BEGIN:STANDARD
TZOFFSETFROM:-0400
TZOFFSETTO:-0500
TZNAME:EST
DTSTART:20151101T060000
END:STANDARD
BEGIN:DAYLIGHT
TZOFFSETFROM:-0500
TZOFFSETTO:-0400
TZNAME:EDT
DTSTART:20160313T070000
END:DAYLIGHT
BEGIN:STANDARD
TZOFFSETFROM:-0400
TZOFFSETTO:-0500
TZNAME:EST
DTSTART:20161106T060000
END:STANDARD
BEGIN:DAYLIGHT
TZOFFSETFROM:-0500
TZOFFSETTO:-0400
TZNAME:EDT
DTSTART:20170312T070000
END:DAYLIGHT
BEGIN:STANDARD
TZOFFSETFROM:-0400
TZOFFSETTO:-0500
TZNAME:EST
DTSTART:20171105T060000
END:STANDARD
BEGIN:DAYLIGHT
TZOFFSETFROM:-0500
TZOFFSETTO:-0400
TZNAME:EDT
DTSTART:20180311T070000
END:DAYLIGHT
BEGIN:STANDARD
TZOFFSETFROM:-0400
TZOFFSETTO:-0500
TZNAME:EST
DTSTART:20181104T060000
END:STANDARD
BEGIN:DAYLIGHT
TZOFFSETFROM:-0500
TZOFFSETTO:-0400
TZNAME:EDT
DTSTART:20190310T070000
END:DAYLIGHT
BEGIN:STANDARD
TZOFFSETFROM:-0400
TZOFFSETTO:-0500
TZNAME:EST
DTSTART:20191103T060000
END:STANDARD
END:VTIMEZONE
BEGIN:VEVENT
DTSTART;TZID=America/New_York:20180824T080000
DTEND;TZID=America/New_York:20180824T170000
DTSTAMP:20260422T044836
CREATED:20180823T180401Z
LAST-MODIFIED:20180823T180401Z
UID:7776-1535097600-1535130000@thelaunchpad.org
SUMMARY:Test event
DESCRIPTION:This is a test of the event system.
URL:https://thelaunchpad.org/event/test-event/
CATEGORIES:Feldman Lecture
END:VEVENT
BEGIN:VEVENT
DTSTART;TZID=America/New_York:20180123T080000
DTEND;TZID=America/New_York:20180418T170000
DTSTAMP:20260422T044836
CREATED:20180123T201718Z
LAST-MODIFIED:20180123T201718Z
UID:4464-1516694400-1524070800@thelaunchpad.org
SUMMARY:Startup Events Spring 2018
DESCRIPTION: 
URL:https://thelaunchpad.org/event/startup-events-spring-2018/
CATEGORIES:Community Events,Feldman Lecture,Meeting Or Networking Event,Meetup,Startup,TLP Events,Workshop
ORGANIZER;CN="The Launch Pad":MAILTO:um@thelaunchpad.org
END:VEVENT
BEGIN:VEVENT
DTSTART;TZID=America/New_York:20180123T080000
DTEND;TZID=America/New_York:20180418T170000
DTSTAMP:20260422T044836
CREATED:20180123T201718Z
LAST-MODIFIED:20180123T201718Z
UID:7739-1516694400-1524070800@thelaunchpad.org
SUMMARY:Startup Events Spring 2018
DESCRIPTION: 
URL:https://thelaunchpad.org/event/startup-events-spring-2018-2/
CATEGORIES:Community Events,Feldman Lecture,Meeting Or Networking Event,Meetup,Startup,TLP Events,Workshop
ORGANIZER;CN="The Launch Pad":MAILTO:um@thelaunchpad.org
END:VEVENT
BEGIN:VEVENT
DTSTART;TZID=America/New_York:20171017T183000
DTEND;TZID=America/New_York:20171017T210000
DTSTAMP:20260422T044836
CREATED:20171004T175810Z
LAST-MODIFIED:20171004T175810Z
UID:4214-1508265000-1508274000@thelaunchpad.org
SUMMARY:Feldman Entrepreneurship Lecture Series - Mike Cuesta Care Cloud Cofounder
DESCRIPTION:
URL:https://thelaunchpad.org/event/feldman-entrepreneurship-lecture-series-mike-cuesta-care-cloud-cofounder/
LOCATION:Newman Alumni Center\, 6200 San Amaro Dr\, Coral Gables\, FL\, 33146\, United States
CATEGORIES:Feldman Lecture,Meeting Or Networking Event,Seminar Or Talk,TLP Events
END:VEVENT
BEGIN:VEVENT
DTSTART;TZID=America/New_York:20171017T183000
DTEND;TZID=America/New_York:20171017T210000
DTSTAMP:20260422T044836
CREATED:20171004T175810Z
LAST-MODIFIED:20171004T175810Z
UID:7713-1508265000-1508274000@thelaunchpad.org
SUMMARY:Feldman Entrepreneurship Lecture Series - Mike Cuesta Care Cloud Cofounder
DESCRIPTION:
URL:https://thelaunchpad.org/event/feldman-entrepreneurship-lecture-series-mike-cuesta-care-cloud-cofounder-2/
LOCATION:Newman Alumni Center\, 6200 San Amaro Dr\, Coral Gables\, FL\, 33146\, United States
CATEGORIES:Feldman Lecture,Meeting Or Networking Event,Seminar Or Talk,TLP Events
END:VEVENT
BEGIN:VEVENT
DTSTART;VALUE=DATE:20170824
DTEND;VALUE=DATE:20180101
DTSTAMP:20260422T044836
CREATED:20170824T163623Z
LAST-MODIFIED:20170824T163623Z
UID:4042-1503532800-1514764799@thelaunchpad.org
SUMMARY:STARTUP EVENTS THIS FALL
DESCRIPTION:
URL:https://thelaunchpad.org/event/startup-events-this-fall/
CATEGORIES:Community Events,Feldman Lecture,Meeting Or Networking Event,Meetup,Seminar Or Talk,Startup,TLP Events
END:VEVENT
BEGIN:VEVENT
DTSTART;VALUE=DATE:20170824
DTEND;VALUE=DATE:20180101
DTSTAMP:20260422T044836
CREATED:20170824T163623Z
LAST-MODIFIED:20170824T163623Z
UID:7544-1503532800-1514764799@thelaunchpad.org
SUMMARY:STARTUP EVENTS THIS FALL
DESCRIPTION:
URL:https://thelaunchpad.org/event/startup-events-this-fall-2/
CATEGORIES:Community Events,Feldman Lecture,Meeting Or Networking Event,Meetup,Seminar Or Talk,Startup,TLP Events
END:VEVENT
BEGIN:VEVENT
DTSTART;TZID=America/New_York:20170424T183000
DTEND;TZID=America/New_York:20170424T213000
DTSTAMP:20260422T044836
CREATED:20170407T180712Z
LAST-MODIFIED:20170407T180712Z
UID:3558-1493058600-1493069400@thelaunchpad.org
SUMMARY:Feldman Lecture – Rick Masterson
DESCRIPTION:Hear from Rick Masterson\, UM Parent & Founder of \n \nA graduate of James Madison University and Harvard Business school\, Rich Masterson is a serial entrepreneur\, adviser to start ups\, NY Giants fan\, philanthropist and business owner. His motto is “I am not generous because I am successful\, I am successful because I am generous.” \nIn 2007 he founded Audience Partners\, a data driven online advertising platform serving political candidates and causes\, healthcare and commercial clients. Just last month\, Audience Partners was sold to Altice USA\, the fifth largest cable TV operator in the United States. Join us for light refreshments\, a presentation by Rich and Q&A session. \nThe gathering is free and open to the public.
URL:https://thelaunchpad.org/event/feldman-lecture-rick-masterson/
LOCATION:Toppel Career Center\, 2nd Floor Loft\, 5225 Ponce De Leon Blvd\, Coral Gables\, FL\, 33146\, United States
CATEGORIES:Feldman Lecture,Meeting Or Networking Event,Seminar Or Talk,Startup,TLP Events
ATTACH;FMTTYPE=image/png:https://thelaunchpad.org/wp-content/uploads/2017/04/33527975076-30186362-3.png
END:VEVENT
BEGIN:VEVENT
DTSTART;TZID=America/New_York:20170424T183000
DTEND;TZID=America/New_York:20170424T213000
DTSTAMP:20260422T044836
CREATED:20170407T180712Z
LAST-MODIFIED:20170407T180712Z
UID:7168-1493058600-1493069400@thelaunchpad.org
SUMMARY:Feldman Lecture – Rick Masterson
DESCRIPTION:Hear from Rick Masterson\, UM Parent & Founder of \n \nA graduate of James Madison University and Harvard Business school\, Rich Masterson is a serial entrepreneur\, adviser to start ups\, NY Giants fan\, philanthropist and business owner. His motto is “I am not generous because I am successful\, I am successful because I am generous.” \nIn 2007 he founded Audience Partners\, a data driven online advertising platform serving political candidates and causes\, healthcare and commercial clients. Just last month\, Audience Partners was sold to Altice USA\, the fifth largest cable TV operator in the United States. Join us for light refreshments\, a presentation by Rich and Q&A session. \nThe gathering is free and open to the public.
URL:https://thelaunchpad.org/event/feldman-lecture-rick-masterson-2/
LOCATION:Toppel Career Center\, 2nd Floor Loft\, 5225 Ponce De Leon Blvd\, Coral Gables\, FL\, 33146\, United States
CATEGORIES:Feldman Lecture,Meeting Or Networking Event,Seminar Or Talk,Startup,TLP Events
ATTACH;FMTTYPE=image/png:https://thelaunchpad.org/wp-content/uploads/2017/04/33527975076-30186362-3.png
END:VEVENT
BEGIN:VEVENT
DTSTART;TZID=America/New_York:20160322T183000
DTEND;TZID=America/New_York:20160322T200000
DTSTAMP:20260422T044836
CREATED:20160212T201507Z
LAST-MODIFIED:20160212T201507Z
UID:784-1458671400-1458676800@thelaunchpad.org
SUMMARY:Feldman Lecture - Scott DiGiammarino
DESCRIPTION:UM Parent & Founder of \n \nScott DiGiammarino spent 25 years as an award winning\, senior executive at American Express. And in 2009\, Scott left American Express and started his new firm\, Reel Potential. At Reel Potential\, they use Hollywood movie clips to help business leaders inspire\, engage and communicate to their employees\, in a short\, entertaining and memorable manner.  \nToday\, Reel Potential is the only company\, in the history of Hollywood\, to have legal access to movie clips for business purposes.  \nScott recently presented at TEDx Rock Creek Park and his speech was about the impact movies have plus the neuroscience behind it. \nThe gathering is free and open to the public. \nPlease CLICK HERE TO REGISTER for tickets to this event.
URL:https://thelaunchpad.org/event/feldman-lecture2/
LOCATION:Toppel Career Center Loft\, 5225 Ponce De Leon Blvd\,  Coral Gables\, FL\, 33146\, US
CATEGORIES:Feldman Lecture,TLP Events
ATTACH;FMTTYPE=image/png:https://thelaunchpad.org/wp-content/uploads/2016/02/Feldman-Lectures-Scott-Digiammarino-Landscape-Small-1.png
END:VEVENT
BEGIN:VEVENT
DTSTART;TZID=America/New_York:20160322T183000
DTEND;TZID=America/New_York:20160322T200000
DTSTAMP:20260422T044836
CREATED:20160212T201507Z
LAST-MODIFIED:20160212T201507Z
UID:6284-1458671400-1458676800@thelaunchpad.org
SUMMARY:Feldman Lecture - Scott DiGiammarino
DESCRIPTION:UM Parent & Founder of \n \nScott DiGiammarino spent 25 years as an award winning\, senior executive at American Express. And in 2009\, Scott left American Express and started his new firm\, Reel Potential. At Reel Potential\, they use Hollywood movie clips to help business leaders inspire\, engage and communicate to their employees\, in a short\, entertaining and memorable manner.  \nToday\, Reel Potential is the only company\, in the history of Hollywood\, to have legal access to movie clips for business purposes.  \nScott recently presented at TEDx Rock Creek Park and his speech was about the impact movies have plus the neuroscience behind it. \nThe gathering is free and open to the public. \nPlease CLICK HERE TO REGISTER for tickets to this event.
URL:https://thelaunchpad.org/event/feldman-lecture2-2/
LOCATION:Toppel Career Center Loft\, 5225 Ponce De Leon Blvd\,  Coral Gables\, FL\, 33146\, US
CATEGORIES:Feldman Lecture,TLP Events
ATTACH;FMTTYPE=image/png:https://thelaunchpad.org/wp-content/uploads/2016/02/Feldman-Lectures-Scott-Digiammarino-Landscape-Small-1.png
END:VEVENT
END:VCALENDAR